BEGIN:VCALENDAR
VERSION:2.0
PRODID:-//Welcome to Suraksha Warriors India - Approach to Ending Poverty - ECPv6.0.11//NONSGML v1.0//EN
CALSCALE:GREGORIAN
METHOD:PUBLISH
X-WR-CALNAME:Welcome to Suraksha Warriors India - Approach to Ending Poverty
X-ORIGINAL-URL:https://surakshawarriors.org
X-WR-CALDESC:Events for Welcome to Suraksha Warriors India - Approach to Ending Poverty
REFRESH-INTERVAL;VALUE=DURATION:PT1H
X-Robots-Tag:noindex
X-PUBLISHED-TTL:PT1H
BEGIN:VTIMEZONE
TZID:Asia/Kolkata
BEGIN:STANDARD
TZOFFSETFROM:+0530
TZOFFSETTO:+0530
TZNAME:IST
DTSTART:20220101T000000
END:STANDARD
END:VTIMEZONE
BEGIN:VEVENT
DTSTART;TZID=Asia/Kolkata:20221112T110000
DTEND;TZID=Asia/Kolkata:20221112T170000
DTSTAMP:20260426T015652
CREATED:20221112T091500Z
LAST-MODIFIED:20221112T091930Z
UID:10000009-1668250800-1668272400@surakshawarriors.org
SUMMARY:CHILDREN's DAY CELEBRATION
DESCRIPTION:CHILDREN’s DAY CELEBRATION\nNovember 14 is the birthday of India’s first Prime Minister\, Pandit Jawaharlal Nehru. He was imensely fond of children and thought that they are the future of a Nation and need utmost care. \n \nSuraksha Warriors and Mandev foundation took the opportunity to celebrate the Children’s Day and Almost 150 children were present at the venue. \nThe program was organised at Don joao Nagoa. they were entertained with Games\, live singing and music\, face painting\, face make-up\, chart making and dance sessions etc.
URL:https://surakshawarriors.org/event/childrens-day-celebration/
LOCATION:Don joao Nagoa\, Nagoa\, Goa\, India
CATEGORIES:Childrens Day Celebration
ATTACH;FMTTYPE=image/jpeg:https://surakshawarriors.org/wp-content/uploads/2022/11/WhatsApp-Image-2022-11-12-at-12.48.58-PM.jpeg
END:VEVENT
END:VCALENDAR