BEGIN:VCALENDAR
VERSION:2.0
PRODID:-//Welcome to Suraksha Warriors India - Approach to Ending Poverty - ECPv6.0.11//NONSGML v1.0//EN
CALSCALE:GREGORIAN
METHOD:PUBLISH
X-WR-CALNAME:Welcome to Suraksha Warriors India - Approach to Ending Poverty
X-ORIGINAL-URL:https://surakshawarriors.org
X-WR-CALDESC:Events for Welcome to Suraksha Warriors India - Approach to Ending Poverty
REFRESH-INTERVAL;VALUE=DURATION:PT1H
X-Robots-Tag:noindex
X-PUBLISHED-TTL:PT1H
BEGIN:VTIMEZONE
TZID:Asia/Kolkata
BEGIN:STANDARD
TZOFFSETFROM:+0530
TZOFFSETTO:+0530
TZNAME:IST
DTSTART:20230101T000000
END:STANDARD
END:VTIMEZONE
BEGIN:VEVENT
DTSTART;TZID=Asia/Kolkata:20231114T150000
DTEND;TZID=Asia/Kolkata:20231114T180000
DTSTAMP:20260425T225359
CREATED:20231103T132913Z
LAST-MODIFIED:20231103T132913Z
UID:10000016-1699974000-1699984800@surakshawarriors.org
SUMMARY:Suraksha Warriors Presents Diwali & Children's Day Celebrations for Underprivileged Children
DESCRIPTION:Suraksha Warriors Presents Diwali & Children’s Day Celebrations for Underprivileged Children\n \nJoin us on November 14\, 2023\, at 3:00 PM at Canossa Samajik Kendra\, Viegas Vaddo\, Arpora\, as Suraksha Warriors proudly hosts a heartwarming celebration of Diwali and Children’s Day. This event is dedicated to making a difference in the lives of underprivileged children and orphans who deserve our care and support. \nWe kindly request your support and donations to ensure the success of this special occasion. Your generosity will help bring joy and happiness to these deserving children. Every contribution\, no matter the size\, makes a significant impact. \nTo show your support and make a donation\, please visit our website at www.surakshawarriors.org or contact us at 9579804654. Your participation and contributions are essential in making this event a memorable one. \nThis Diwali\, let’s brighten the lives of those in need and celebrate the spirit of giving. We look forward to your generous support to make this event a resounding success.
URL:https://surakshawarriors.org/event/suraksha-warriors-presents-diwali-childrens-day-celebrations-for-underprivileged-children/
CATEGORIES:Diwali & Children's Day Celebrations,Underprivileged Children
ATTACH;FMTTYPE=image/png:https://surakshawarriors.org/wp-content/uploads/2023/11/suraksha-diwali-childrens-day-final.png
END:VEVENT
END:VCALENDAR