BEGIN:VCALENDAR
VERSION:2.0
PRODID:-//Welcome to Suraksha Warriors India - Approach to Ending Poverty - ECPv6.0.11//NONSGML v1.0//EN
CALSCALE:GREGORIAN
METHOD:PUBLISH
X-WR-CALNAME:Welcome to Suraksha Warriors India - Approach to Ending Poverty
X-ORIGINAL-URL:https://surakshawarriors.org
X-WR-CALDESC:Events for Welcome to Suraksha Warriors India - Approach to Ending Poverty
REFRESH-INTERVAL;VALUE=DURATION:PT1H
X-Robots-Tag:noindex
X-PUBLISHED-TTL:PT1H
BEGIN:VTIMEZONE
TZID:Asia/Kolkata
BEGIN:STANDARD
TZOFFSETFROM:+0530
TZOFFSETTO:+0530
TZNAME:IST
DTSTART:20230101T000000
END:STANDARD
END:VTIMEZONE
BEGIN:VEVENT
DTSTART;TZID=Asia/Kolkata:20230319T110000
DTEND;TZID=Asia/Kolkata:20230319T123000
DTSTAMP:20260426T014512
CREATED:20230316T062311Z
LAST-MODIFIED:20230316T062312Z
UID:10000013-1679223600-1679229000@surakshawarriors.org
SUMMARY:Menstrual Health Awareness March 19th\, 2023 at Sal Bicholim
DESCRIPTION:Suraksha Warriors Feminine Group is proud to announce our upcoming Menstrual Health Awareness and Sanitary Pad Distribution Drive\, taking place on March 19th\, 2023 at Sal Bicholim from 11am onwards. \nAs a NGO\, we are committed to promoting menstrual health and hygiene education\, as well as providing access to affordable and sustainable sanitary products. Our drive aims to create a safe and supportive environment for individuals to learn about menstrual health\, share their experiences\, and receive free sanitary pads.  \nWe believe that everyone deserves access to proper menstrual care\, regardless of their gender\, age\, or economic status. \n \nJoin us on sunday at Sal Bicholim and help us empower individuals in our community to take control of their menstrual health and well-being. Together\, we can break down the barriers and stigma that prevent individuals from accessing these essential resources. \n 
URL:https://surakshawarriors.org/event/menstrual-health-awareness-march-19th-2023-at-sal-bicholim/
CATEGORIES:Donate and Support,menstrual health awareness drive,NGO Suraksha Warriors,Sanitary Pad Distribution Drive
ATTACH;FMTTYPE=image/png:https://surakshawarriors.org/wp-content/uploads/2023/03/sanitory-drive-fina-02.png
END:VEVENT
END:VCALENDAR