BEGIN:VCALENDAR
VERSION:2.0
PRODID:-//Welcome to Suraksha Warriors India - Approach to Ending Poverty - ECPv6.0.11//NONSGML v1.0//EN
CALSCALE:GREGORIAN
METHOD:PUBLISH
X-WR-CALNAME:Welcome to Suraksha Warriors India - Approach to Ending Poverty
X-ORIGINAL-URL:https://surakshawarriors.org
X-WR-CALDESC:Events for Welcome to Suraksha Warriors India - Approach to Ending Poverty
REFRESH-INTERVAL;VALUE=DURATION:PT1H
X-Robots-Tag:noindex
X-PUBLISHED-TTL:PT1H
BEGIN:VTIMEZONE
TZID:Asia/Kolkata
BEGIN:STANDARD
TZOFFSETFROM:+0530
TZOFFSETTO:+0530
TZNAME:IST
DTSTART:20220101T000000
END:STANDARD
END:VTIMEZONE
BEGIN:VEVENT
DTSTART;TZID=Asia/Kolkata:20221219T080000
DTEND;TZID=Asia/Kolkata:20221219T083000
DTSTAMP:20260426T014351
CREATED:20221219T070446Z
LAST-MODIFIED:20221219T070551Z
UID:10000010-1671436800-1671438600@surakshawarriors.org
SUMMARY:Suraksha warriors joined for Flag hosting on occasion of Goa Liberation Day
DESCRIPTION:Suraksha warriors joined for Flag hosting on occasion of Goa Liberation Day\n\nAlong with Ritu puri a well known fashion designer at Government primary school Arpora – Nagoa. Also distributed Snacks n juices for the children’s\n#surakshawarriors #Goaliberationday
URL:https://surakshawarriors.org/event/suraksha-warriors-joined-for-flag-hosting-on-occasion-of-goa-liberation-day/
CATEGORIES:Flag hosting,Goa Liberation Day
ATTACH;FMTTYPE=image/jpeg:https://surakshawarriors.org/wp-content/uploads/2022/12/WhatsApp-Image-2022-12-19-at-10.07.37-AM-1.jpeg
END:VEVENT
END:VCALENDAR