BEGIN:VCALENDAR
VERSION:2.0
PRODID:-//Welcome to Suraksha Warriors India - Approach to Ending Poverty - ECPv6.0.11//NONSGML v1.0//EN
CALSCALE:GREGORIAN
METHOD:PUBLISH
X-ORIGINAL-URL:https://surakshawarriors.org
X-WR-CALDESC:Events for Welcome to Suraksha Warriors India - Approach to Ending Poverty
REFRESH-INTERVAL;VALUE=DURATION:PT1H
X-Robots-Tag:noindex
X-PUBLISHED-TTL:PT1H
BEGIN:VTIMEZONE
TZID:Asia/Kolkata
BEGIN:STANDARD
TZOFFSETFROM:+0530
TZOFFSETTO:+0530
TZNAME:IST
DTSTART:20220101T000000
END:STANDARD
END:VTIMEZONE
BEGIN:VEVENT
DTSTART;TZID=Asia/Kolkata:20221009T100000
DTEND;TZID=Asia/Kolkata:20221009T123000
DTSTAMP:20260426T015845
CREATED:20221006T021759Z
LAST-MODIFIED:20221006T101623Z
UID:10000007-1665309600-1665318600@surakshawarriors.org
SUMMARY:free child health check - up and consultation camp
DESCRIPTION:_This Sunday_\n*A free child health check – up and consultation camp* in collaboration with *Remanso hospital* Organised by *Canossa samajik Vikas Kendra* Supported by *Surakshawarriors.org & Indian social institute Bangalore*\nCome and get free consultation for your child\n*Date : 9th Oct (Sunday)*\n*Time : 10am to 12:30pm*\n*Venue : Sub health centre \, Viegas vaddo Arpora*\nFor more details Contact : 9579804654 /8554030668\n\n 
URL:https://surakshawarriors.org/event/free-child-health-check-up-and-consultation-camp/
CATEGORIES:health check up,NGO Suraksha Warriors
ATTACH;FMTTYPE=image/jpeg:https://surakshawarriors.org/wp-content/uploads/2022/10/free-child-health-checkup.jpg
END:VEVENT
END:VCALENDAR