BEGIN:VCALENDAR
VERSION:2.0
PRODID:-//Welcome to Suraksha Warriors India - Approach to Ending Poverty - ECPv6.0.11//NONSGML v1.0//EN
CALSCALE:GREGORIAN
METHOD:PUBLISH
X-WR-CALNAME:Welcome to Suraksha Warriors India - Approach to Ending Poverty
X-ORIGINAL-URL:https://surakshawarriors.org
X-WR-CALDESC:Events for Welcome to Suraksha Warriors India - Approach to Ending Poverty
REFRESH-INTERVAL;VALUE=DURATION:PT1H
X-Robots-Tag:noindex
X-PUBLISHED-TTL:PT1H
BEGIN:VTIMEZONE
TZID:Asia/Kolkata
BEGIN:STANDARD
TZOFFSETFROM:+0530
TZOFFSETTO:+0530
TZNAME:IST
DTSTART:20230101T000000
END:STANDARD
END:VTIMEZONE
BEGIN:VEVENT
DTSTART;TZID=Asia/Kolkata:20230528T153000
DTEND;TZID=Asia/Kolkata:20230528T180000
DTSTAMP:20260426T004450
CREATED:20230525T142306Z
LAST-MODIFIED:20230525T142306Z
UID:10000015-1685287800-1685296800@surakshawarriors.org
SUMMARY:Join us for a Remarkable Celebration of International Menstrual Hygiene Day!
DESCRIPTION:Date: 28/05/2023\nTime: 3.30pm\nVenue: Village Panchayat Hall\, Latambarcem\, Bicholim \nSuraksha Warriors cordially invites you to be a part of an extraordinary event commemorating International Menstrual Hygiene Day. Prepare to embark on a journey of empowerment\, awareness\, and celebration as we come together to promote menstrual hygiene and uplift women worldwide. \nWe are honored to welcome our esteemed Chief Guests\, the world-famous pop singer Hemaa Sardesai and the distinguished Dr. Sandhya Kini Mayenkar\, Entrepreneur & Social Worker. Their presence will grace the event with inspiration and motivation. \n \nThe event will commence with an enchanting Opening Ceremony\, symbolized by the ceremonial lamp lighting by our esteemed guests. This auspicious moment will set the tone for the festivities that lie ahead. \nOne of the highlights of the evening will be a mesmerizing cultural dance performance by the talented Puja Usapkar. Through her graceful movements\, she will take us on a cultural journey that will leave us captivated. \nWe are fortunate to have Dr. Megha Salgaonkar join us to share invaluable insights in her talk on menstrual hygiene. Her expertise will shed light on the importance of awareness and breaking societal barriers\, emphasizing the need for change. \nDuring this event\, we will take a moment to appreciate and honor the outstanding efforts of our Suraksha Warriors team. They have tirelessly worked to promote Suraksha Warriors\, a non-profit organization dedicated to menstrual hygiene. Special awards will be presented to acknowledge their dedication and commitment. \nPrepare to be amazed as participants showcase their culinary skills in a thrilling cooking competition. The creativity and passion on display will leave you in awe\, as our distinguished judges evaluate the exceptional talents of the contestants. \nIn recognition of the achievements of remarkable women in various fields\, we will present the Women’s Appreciation Awards. These awards will celebrate their contributions\, inspiring others to reach for greatness and break barriers. \nStay tuned as we unveil the winners of the cooking competition\, revealing the exceptional culinary talents that impressed our esteemed judges. The suspense and excitement will be palpable as we announce the deserving winners. \nFinally\, we will conclude the event with a heartfelt vote of thanks by Carol Fernandes\, expressing our gratitude to all attendees and participants for their presence and contribution in making this celebration a grand success. \nDon’t miss out on this momentous occasion! Join us as we stand together to promote menstrual hygiene and empower women worldwide. Together\, we can create a positive change and ensure a brighter future for all. \n#SurakshaWarriors #InternationalMHDay #MenstrualHygieneDay #ChiefGuests #HemaaSardesai #DrSandhyaKinimayenkar #Entrepreneur #Socialworker #OpeningCeremony #CulturalDance #PujaUsapkar #TalkOnMenstrualHygiene #DrMeghaSalgaonkar #TeamAppreciationAndAwards #CookingCompetition #WomensAppreciationAwards #WinnersDeclaration #VoteOfThanks #EmpowerWomen #CelebrateHygiene #TogetherForChange
URL:https://surakshawarriors.org/event/join-us-for-a-remarkable-celebration-of-international-menstrual-hygiene-day/
CATEGORIES:International Menstrual Hygiene Day
ATTACH;FMTTYPE=image/png:https://surakshawarriors.org/wp-content/uploads/2023/05/suraksha-mh-insta-1.png
END:VEVENT
END:VCALENDAR