BEGIN:VCALENDAR
VERSION:2.0
PRODID:-//Welcome to Suraksha Warriors India - Approach to Ending Poverty - ECPv6.0.11//NONSGML v1.0//EN
CALSCALE:GREGORIAN
METHOD:PUBLISH
X-ORIGINAL-URL:https://surakshawarriors.org
X-WR-CALDESC:Events for Welcome to Suraksha Warriors India - Approach to Ending Poverty
REFRESH-INTERVAL;VALUE=DURATION:PT1H
X-Robots-Tag:noindex
X-PUBLISHED-TTL:PT1H
BEGIN:VTIMEZONE
TZID:Asia/Kolkata
BEGIN:STANDARD
TZOFFSETFROM:+0530
TZOFFSETTO:+0530
TZNAME:IST
DTSTART:20220101T000000
END:STANDARD
END:VTIMEZONE
BEGIN:VEVENT
DTSTART;TZID=Asia/Kolkata:20221222T153000
DTEND;TZID=Asia/Kolkata:20221222T180000
DTSTAMP:20260426T020023
CREATED:20221223T052949Z
LAST-MODIFIED:20221223T052951Z
UID:10000011-1671723000-1671732000@surakshawarriors.org
SUMMARY:Kids Christmas party
DESCRIPTION:Kids Christmas party\non 22nd December at Canossa Samajik Kendra Veigas waddo Arpora. 3.30 Pm to 6pm Organized By Suraksha Warriors and Supported by Canossa Samajik Kendra. . \n \n 
URL:https://surakshawarriors.org/event/kids-christmas-party/
CATEGORIES:Kids Christmas party
ATTACH;FMTTYPE=image/png:https://surakshawarriors.org/wp-content/uploads/2022/12/children-party-final.png
END:VEVENT
END:VCALENDAR