BEGIN:VCALENDAR
VERSION:2.0
PRODID:-//Welcome to Suraksha Warriors India - Approach to Ending Poverty - ECPv6.0.11//NONSGML v1.0//EN
CALSCALE:GREGORIAN
METHOD:PUBLISH
X-WR-CALNAME:Welcome to Suraksha Warriors India - Approach to Ending Poverty
X-ORIGINAL-URL:https://surakshawarriors.org
X-WR-CALDESC:Events for Welcome to Suraksha Warriors India - Approach to Ending Poverty
REFRESH-INTERVAL;VALUE=DURATION:PT1H
X-Robots-Tag:noindex
X-PUBLISHED-TTL:PT1H
BEGIN:VTIMEZONE
TZID:Asia/Kolkata
BEGIN:STANDARD
TZOFFSETFROM:+0530
TZOFFSETTO:+0530
TZNAME:IST
DTSTART:20230101T000000
END:STANDARD
END:VTIMEZONE
BEGIN:VEVENT
DTSTART;TZID=Asia/Kolkata:20230402T123000
DTEND;TZID=Asia/Kolkata:20230402T143000
DTSTAMP:20260425T225956
CREATED:20230402T142003Z
LAST-MODIFIED:20230402T142003Z
UID:10000014-1680438600-1680445800@surakshawarriors.org
SUMMARY:Distributes Sanitary Pads and Lunch for Women and Children in Kudnem Sanquelim.
DESCRIPTION:Suraksha Warriors Distributes Sanitary Pads and Lunch for Women and Children in Kudnem Sanquelim.\nSuraksha Warriors\, a non-profit organization dedicated to improving the lives of women and children\, successfully organized an event on April 2\, 2023\, to distribute sanitary pads and nutritious meals to women and children in Kudnem Sanquelim. The event was supported by the Sarpanch of Village Panchayat Kudnem\, Mr. Rajan Palkar\, who has been an ardent supporter of Suraksha Warriors. \nThe event was attended by a large number of women and children from low-income families\, who were in dire need of menstrual hygiene products and nutritious food. Suraksha Warriors organized the distribution of sanitary pads and a hot and nutritious lunch for everyone in attendance. \nMrs. Carol Fernandes\, the secretary of Suraksha Warriors\, gave a speech on menstrual hygiene and the importance of proper nutrition for overall health. She emphasized the need to break the taboo surrounding menstruation and ensure that every woman has access to hygienic products. \nThe event would not have been possible without the hard work and dedication of the core members of Suraksha Warriors\, namely Siddhi\, Suraj\, and John. Their tireless efforts and unwavering commitment to the cause have made a real difference in the lives of countless women and children. \nSpeaking after the event\, a representative of Suraksha Warriors said\, “We are grateful for the support of Mr. Rajan Palkar and Michelle\, who have contributed to make this event possible. We believe that every woman and child deserves access to menstrual hygiene products and nutritious food\, and we will continue our efforts to make that a reality.” \nSuraksha Warriors has been working tirelessly to improve the lives of women and children in Kudnem Sanquelim for many years. Their work has helped to create a more equitable and just society\, where every individual has the opportunity to thrive. \n    \nFor more information about Suraksha Warriors and their work\, please visit their website at www.surakshawarriors.org
URL:https://surakshawarriors.org/event/distributes-sanitary-pads-and-lunch-for-women-and-children-in-kudnem-sanquelim/
CATEGORIES:Lunch for Women and Children
ATTACH;FMTTYPE=image/jpeg:https://surakshawarriors.org/wp-content/uploads/2023/04/WhatsApp-Image-2023-04-02-at-17.37.16.jpeg
END:VEVENT
END:VCALENDAR