BEGIN:VCALENDAR
VERSION:2.0
PRODID:-//Welcome to Suraksha Warriors India - Approach to Ending Poverty - ECPv6.0.11//NONSGML v1.0//EN
CALSCALE:GREGORIAN
METHOD:PUBLISH
X-WR-CALNAME:Welcome to Suraksha Warriors India - Approach to Ending Poverty
X-ORIGINAL-URL:https://surakshawarriors.org
X-WR-CALDESC:Events for Welcome to Suraksha Warriors India - Approach to Ending Poverty
REFRESH-INTERVAL;VALUE=DURATION:PT1H
X-Robots-Tag:noindex
X-PUBLISHED-TTL:PT1H
BEGIN:VTIMEZONE
TZID:Asia/Kolkata
BEGIN:STANDARD
TZOFFSETFROM:+0530
TZOFFSETTO:+0530
TZNAME:IST
DTSTART:20220101T000000
END:STANDARD
END:VTIMEZONE
BEGIN:VEVENT
DTSTART;TZID=Asia/Kolkata:20220719T183000
DTEND;TZID=Asia/Kolkata:20220719T220000
DTSTAMP:20260426T014910
CREATED:20220825T034928Z
LAST-MODIFIED:20220825T035436Z
UID:10000005-1658255400-1658268000@surakshawarriors.org
SUMMARY:Bringing smiles on faces of orphanage childrens by Suraksha Warriors
DESCRIPTION:Bringing smiles on faces of orphanage childrens by Suraksha Warriors on this Father’s Day. When we entered the home\, we were taken by surprise as there were more number of children than we had imagined also we have seen drawings on wall painted by childrens side of the entrance which was so amazing. There was a common room where the children both boys and girls ranging from the ages of 3 to 16 years were seen. Some of them were indulged in watching the television\,some girls were busy playing with their dolls and others were staring at us.\nWe had brought with us food\, juices \, drawing books\, crayons\, pencils etc. which we distributed amongst the children. They were ecstatic to have food from outside and were even more elated when they received the stationary from us. We segregated ourselves and went to talk individually to everyone. \nThe visit to the orphanage was a fulfilling experience for Us as we came back home with not only memories but also some valuable lessons.
URL:https://surakshawarriors.org/event/bringing-smiles-on-faces-of-orphanage-childrens-by-suraksha-warriors/
CATEGORIES:orphanage childrens
ATTACH;FMTTYPE=image/jpeg:https://surakshawarriors.org/wp-content/uploads/2022/08/large-whatsapp-image-2022-06-19-at-70401-pm1655649924.jpeg
END:VEVENT
END:VCALENDAR